Workbook

Sheet 1
E1: абз.17 п.11 "б" ПП РФ №24 от 21.01.2004
A3: Информация о наличии свободной для технологического присоединения потребителей трансформаторной мощности по подстанциям и распределительным пунктам напряжением ниже 35кВ с дифференциацией по всем уровням напряжения
C5: 2025г. 4 квартал | F5: на 20.01.2026
A6: № пп | B6: Наименование подстанции, распределительного пункта | C6: Место расположения | D6: Технические характеристики
D7: Класс напряжения | E7: Текущий резерв/ дефицит мощности для технологического присоединения3,МВт | F7: Наличие (+) или отсутствие (-) свободной мощности на ТП
A9: 1 | B9: ТП-1 | C9: Краснознамённая, 49-б (ЛВЗ «Бальзам») | D9: 6/0,4кВ | E9: =[1]Таблица!L9 -> 0.6151594 | F9: +
A10: 2 | B10: ТП-2 | C10: Тимирязева, 63-г (за "Экспресс") | D10: 6/0,4кВ | E10: =[1]Таблица!L10 -> 0.660659 | F10: +
A11: 3 | B11: ТП-3 | C11: Агеева, 45-в («СТО» Советская-Агеева) | D11: 6/0,4кВ | E11: =[1]Таблица!L11 -> 0.16954533 | F11: +
A12: 4 | B12: ТП-4 | C12: территория бывшего УВВАКУ | D12: 6/0,4кВ | E12: =[1]Таблица!L12 -> 0.56 | F12: +
A13: 5 | B13: ТП-5 | C13: Краснознамённая, 57-б (въезд на Стройдвор) | D13: 6/0,4кВ | E13: =[1]Таблица!L13 -> 0.33728447 | F13: +
A14: 6 | B14: ТП-6 | C14: Суханова, 80 (школа №25) | D14: 6/0,4кВ | E14: =[1]Таблица!L14 -> 0.36067373 | F14: +
A15: 7 | B15: ТП-7 | C15: Ленина, 56-г (Сбербанк) | D15: 6/0,4кВ | E15: =[1]Таблица!L15 -> 0.81998527 | F15: +
A16: 8 | B16: ТП-8 | C16: Советская, 135-а - Комарова (АЗС) | D16: 6/0,4кВ | E16: =[1]Таблица!L16 -> 0.22958947 | F16: +
A17: 9 | B17: ТП-9 | C17: Кузнечная, (центральный рынок) | D17: 6/0,4кВ | E17: =[1]Таблица!L17 -> 0.882 | F17: +
A18: 10 | B18: ТП-10 | C18: Тимирязева, 33-а - (пед. фак.) | D18: 6/0,4кВ | E18: =[1]Таблица!L18 -> 0.42126 | F18: +
A19: 11 | B19: ТП-11 | C19: Пушкина, 15-в (Дзержинского-Крестьянская) | D19: 6/0,4кВ | E19: =[1]Таблица!L19 -> 0.23264033 | F19: +
A20: 12 | B20: ТП-12 | C20: Лермонтова, 24-в | D20: 6/0,4кВ | E20: =[1]Таблица!L20 -> -0.018299333 | F20: -
... A207: 199 | B207: ТП-199 | C207: Михайловское шоссе, контора пчеловодов | D207: 6/0,4кВ | E207: =[1]Таблица!L207 -> 0.0796484 | F207: +
B208: ТП-1000 | C208: Дзержинского | D208: 6/0,4кВ | E208: =[1]Таблица!L208 -> 2.8 | F208: +
B210: ТП-1001 | C210: Щорса-Афанасьева, 12 (ор.) | D210: 6/0,4кВ | E210: =[1]Таблица!L210 -> 0.475 | F210: +
B211: ТП-1002 | C211: Некрасова, 272 (ор.) | D211: 6/0,4кВ | E211: =[1]Таблица!L211 -> 0.922 | F211: +
B212: ТП-1003 | C212: Ленинградская, 5 | D212: 6/0,4кВ | E212: =[1]Таблица!L212 -> 1.197 | F212: +
B213: ТП-1006 | C213: Пархоменко, 1 (ор.) | D213: 6/0,4кВ | E213: =[1]Таблица!L213 -> 1.75 | F213: +
A214: 200 | B214: ТП-1901 | C214: Некрасова, 228-б | D214: 6/0,4кВ | E214: =[1]Таблица!L214 -> 0.090617333 | F214: +
A215: 201 | B215: ТП-1902 | C215: База КПС | D215: 6/0,4кВ | E215: =[1]Таблица!L215 -> 0.22386427 | F215: +
A216: 202 | B216: ТП-1903 | C216: Ермакова, 28 (батутный центр) | D216: 6/0,4кВ | E216: =[1]Таблица!L216 -> 0.095 | F216: +
A217: 203 | B217: ТП-1904 | C217: Резервная, 4-а (ориентир) | D217: 6/0,4кВ | E217: =[1]Таблица!L217 -> 0.215 | F217: +
A218: 204 | B218: ТП-1905 | C218: Комсомольская, 111/1 (ор.) | D218: 6/0,4кВ | E218: =[1]Таблица!L218 -> 0.054466867 | F218: +
A219: 205 | B219: ТП-1906 | C219: Резервная, 6-б | D219: 6/0,4кВ | E219: =[1]Таблица!L219 -> 0.094123467 | F219: +
A220: 206 | B220: ТП-1907 | C220: Михайловское шоссе, 40 | D220: 6/0,4кВ | E220: =[1]Таблица!L220 -> 0.19971013 | F220: +
A221: 207 | B221: ТП-1908 | C221: Фадеева, ул. Беляева, 2 ор. | D221: 6/0,4кВ | E221: =[1]Таблица!L221 -> 0.0371112 | F221: +
A222: 208 | B222: ТП-1909 | C222: Дзержинского - Куйбышева, 11 ориентир | D222: 6/0,4кВ | E222: =[1]Таблица!L222 -> 0.11213813 | F222: +
A223: 209 | B223: ТП-1910 | C223: Лимичевская, 28 (ГСК "Тюльпан") | D223: 6/0,4кВ | E223: =[1]Таблица!L223 -> -0.29888227 | F223: -
A224: 210 | B224: ТП-1911 | C224: Резервная, 4-а | D224: 6/0,4кВ | E224: =[1]Таблица!L224 -> 0.13468847 | F224: +
B225: ТП-1912 | C225: Степана Разина, 17-а (ор.) | D225: 6/0,4кВ | E225: =[1]Таблица!L225 -> 0.2375 | F225: +
B226: ТП-1913 | C226: Степана Разина, 17-а (ор.) | D226: 6/0,4кВ | E226: =[1]Таблица!L226 -> 0.2375 | F226: +
B227: ТП-1914 | C227: Ермакова, 17 | D227: 6/0,4кВ | E227: =[1]Таблица!L227 -> 0.2375 | F227: +
B228: ТП-1915 | C228: Энгельса-Советская | D228: 6/0,4кВ | E228: =[1]Таблица!L228 -> 0.067624267 | F228: +
B229: ТП-1916 | C229: Комарова, 1-ж (ор.) | D229: 6/0,4кВ | E229: =[1]Таблица!L229 -> 0.2025 | F229: +
B230: ТП-1920 | C230: Лимичевская, 17 | D230: 6/0,4кВ | E230: =[1]Таблица!L230 -> 0.20463 | F230: +
A231: 211 | B231: ТП-200 | C231: Советская, 15 (МУП УЭС) | D231: 6/0,4кВ | E231: =[1]Таблица!L231 -> 0.46884053 | F231: +
A232: 212 | B232: ТП-201 | C232: Северный городок (Асфальто-бетонный завод) | D232: 6/0,4кВ | E232: =[1]Таблица!L232 -> 0.2375 | F232: +
A233: 213 | B233: ТП-202 | C233: Октябрьская, 147 | D233: 6/0,4кВ | E233: =[1]Таблица!L233 -> 0.05985 | F233: +
A234: 214 | B234: ТП-203 | C234: Фрунзе, 53-а (д/с №39 «Берёзка») | D234: 6/0,4кВ | E234: =[1]Таблица!L234 -> -0.1050324 | F234: -
A235: 215 | B235: ТП-204 | C235: Некрасова (р-он "Горгаза") | D235: 6/0,4кВ | E235: =[1]Таблица!L235 -> 0.224 | F235: +
A236: 216 | B236: ТП-205 | C236: Володарского, 28 (школа № 22) | D236: 6/0,4кВ | E236: =[1]Таблица!L236 -> 0.3921692 | F236: +
A237: 217 | B237: ТП-206 | C237: Беляева, 36-б | D237: 6/0,4кВ | E237: =[1]Таблица!L237 -> -0.047213533 | F237: -
A238: 218 | B238: ТП-207 | C238: Лимичёвская, 21 | D238: 6/0,4кВ | E238: =[1]Таблица!L238 -> 0.217778 | F238: +
A239: 219 | B239: ТП-208 | C239: Некрасова, 209-б ("Горгаз") | D239: 6/0,4кВ | E239: =[1]Таблица!L239 -> 0.12470967 | F239: +
A240: 220 | B240: ТП-209 | C240: Плеханова, 25-в | D240: 6/0,4кВ | E240: =[1]Таблица!L240 -> 0.299699 | F240: +
A241: 221 | B241: ТП-210 | C241: Крестьянская, 74-б | D241: 6/0,4кВ | E241: =[1]Таблица!L241 -> 0.29513053 | F241: +
A242: 222 | B242: ТП-211 | C242: Орджоникидзе, 40-б (дет. Сад №27) | D242: 6/0,4кВ | E242: =[1]Таблица!L242 -> 0.26530407 | F242: +
... A266: 246 | B266: ТП-235 | C266: Ленинградская, 35-а/1 | D266: 6/0,4кВ | E266: =[1]Таблица!L266 -> -0.0098970667 | F266: -
F267: -
A268: 247 | B268: ТП-236 | C268: Ленинградская, 39-б/1 | D268: 6/0,4кВ | E268: =[1]Таблица!L268 -> 0.38031067 | F268: +
A269: 248 | B269: ТП-237 | C269: Краснознамённая, 145-а (почта) | D269: 6/0,4кВ | E269: =[1]Таблица!L269 -> 0.2968694 | F269: +
A270: 249 | B270: ТП-238 | C270: Муравьёва, 71-г | D270: 6/0,4кВ | E270: =[1]Таблица!L270 -> -0.024706533 | F270: -
A271: 250 | B271: ТП-239 | C271: Горького, 37-а | D271: 6/0,4кВ | E271: =[1]Таблица!L271 -> 0.42752447 | F271: +
A272: 251 | B272: ТП-240 | C272: Ленинградская (Румынский полк) | D272: 6/0,4кВ | E272: =[1]Таблица!L272 -> 0.2375 | F272: +
A273: 252 | B273: ТП-241 | C273: Куйбышева, 38-а | D273: 6/0,4кВ | E273: =[1]Таблица!L273 -> -0.085164467 | F273: -
A274: 253 | B274: ТП-242 | C274: Некрасова (золото) | D274: 6/0,4кВ | E274: =[1]Таблица!L274 -> 0.2375 | F274: +
A275: 254 | B275: ТП-243 | C275: Некрасова, 232 | D275: 6/0,4кВ | E275: =[1]Таблица!L275 -> 0.2375 | F275: +
A276: 255 | B276: ТП-244 | C276: Фадеева, 1-ж (топливный склад) | D276: 6/0,4кВ | E276: =[1]Таблица!L276 -> 0.11041373 | F276: +
A277: 256 | B277: ТП-245 | C277: Октябрьская, 18-а | D277: 6/0,4кВ | E277: =[1]Таблица!L277 -> 0.28805553 | F277: +
A278: 257 | B278: ТП-246 | C278: Льва Толстого, 17-а (база Рудя) | D278: 6/0,4кВ | E278: =[1]Таблица!L278 -> 0.35 | F278: +
A279: 258 | B279: ТП-247 | C279: Резервная, 33 | D279: 6/0,4кВ | E279: =[1]Таблица!L279 -> 0.2375 | F279: +
... A372: 350 | B372: ТП-345 | C372: Владивостокское шоссе, 115-д | D372: 6/0,4кВ | E372: =[1]Таблица!L372 -> -0.13641227 | F372: -
B373: ТП-346 | C373: Владивостокское шоссе, 145-б | D373: 6/0,4кВ | E373: =[1]Таблица!L373 -> 0.175 | F373: +
A374: 351 | B374: ТП-350 | C374: Лесная, 3-а (р-он авторынка на Барановском) | D374: 6/0,4кВ | E374: =[1]Таблица!L374 -> 0.0346852 | F374: +
A375: 352 | B375: ТП-351 | C375: Шевченко, 16-б, ЖБИ | D375: 6/0,4кВ | E375: =[1]Таблица!L375 -> 0.171 | F375: +
A376: 353 | B376: ТП-352 | C376: Штабского, 10-а | D376: 6/0,4кВ | E376: =[1]Таблица!L376 -> 0.2375 | F376: +
A377: 354 | B377: ТП-353 | C377: Шевченко, 16-а | D377: 6/0,4кВ | E377: =[1]Таблица!L377 -> 0.095405133 | F377: +
A378: 355 | B378: ТП-354 | C378: Штабского, 1-а (на территории ДЭМа) | D378: 6/0,4кВ | E378: =[1]Таблица!L378 -> 0.2375 | F378: +
A379: 356 | B379: ТП-355 | C379: Штабского, 14-б Цех кулинарии мясокомбината | D379: 6/0,4кВ | E379: =[1]Таблица!L379 -> 0.36312673 | F379: +
A380: 357 | B380: ТП-357 | C380: Охотничья, 1-б (школа милиции) | D380: 6/0,4кВ | E380: =[1]Таблица!L380 -> 0.59540553 | F380: +
A381: 358 | B381: ТП-358 | C381: Штабского (КНС) | D381: 6/0,4кВ | E381: =[1]Таблица!L381 -> 0.882 | F381: +
A382: 359 | B382: ТП-359 | C382: Колхозная, 2-г ("Дальрыбсбыт") "Хладокомбинат" | D382: 6/0,4кВ | E382: =[1]Таблица!L382 -> 0.56 | F382: +
A383: 360 | B383: ТП-360 | C383: Штабского, 25-а Автоколонна 1408 | D383: 6/0,4кВ | E383: =[1]Таблица!L383 -> 0.52809967 | F383: +
A384: 361 | B384: ТП-361 | C384: Лимичёвская (гаражный кооп «Тюльпан») | D384: 6/0,4кВ | E384: =[1]Таблица!L384 -> 0 | F384: +
A385: 362 | B385: ТП-362 | C385: Штабского, 16-г (общ. Кожзавода) | D385: 6/0,4кВ | E385: =[1]Таблица!L385 -> 0.226194 | F385: +
A386: 363 | B386: ТП-363 | D386: 6/0,4кВ | E386: =[1]Таблица!L386 -> 0.95 | F386: +
A387: 364 | B387: ТП-364 | C387: Штабского (р-он ж/д №21,23,25) | D387: 6/0,4кВ | E387: =[1]Таблица!L387 -> 0.38 | F387: +
A388: 365 | B388: ТП-367 | C388: Барановский, ул.Надеждинская (Мишенная) | D388: 6/0,4кВ | E388: =[1]Таблица!L388 -> 0.057654933 | F388: +
A389: 366 | B389: ТП-368 | C389: Барановский, Мишенная, 13-б | D389: 6/0,4кВ | E389: =[1]Таблица!L389 -> -0.11554053 | F389: -
A390: 367 | B390: ТП-369 | C390: Колхозная | D390: 6/0,4кВ | E390: =[1]Таблица!L390 -> 0.38 | F390: +
A391: 368 | B391: ТП-370 | C391: Крылова | D391: 6/0,4кВ | E391: =[1]Таблица!L391 -> 0 | F391: +
A392: 369 | B392: ТП-372 | C392: Очистные сооружения | D392: 6/0,4кВ | E392: =[1]Таблица!L392 -> 0.882 | F392: +
A393: 370 | B393: ТП-373 | C393: Очистные сооружения | D393: 6/0,4кВ | E393: =[1]Таблица!L393 -> 0.882 | F393: +
A394: 371 | B394: ТП-374 | C394: Очистные сооружения | D394: 6/0,4кВ | E394: =[1]Таблица!L394 -> 0.882 | F394: +
A395: 372 | B395: ТП-375 | C395: Белинского, 2-е, Очистные сооружения | D395: 6/0,4кВ | E395: =[1]Таблица!L395 -> 0.56 | F395: +
A396: 373 | B396: ТП-376 | C396: Белинского, 3-б ("Ветбаклаборатория") | D396: 6/0,4кВ | E396: =[1]Таблица!L396 -> 1.0610335 | F396: +
A397: 374 | B397: ТП-377 | C397: Очистные сооружения (круглая) | D397: 6/0,4кВ | E397: =[1]Таблица!L397 -> 0.159 | F397: +
A398: 375 | B398: ТП-378 | C398: Очистные сооружения № 1 | D398: 6/0,4кВ | E398: =[1]Таблица!L398 -> 0.441 | F398: +
... A411: 388 | B411: ТП-3907 | C411: Владивостокское шоссе, 147 | D411: 6/0,4кВ | E411: =[1]Таблица!L411 -> 0.078448467 | F411: +
B412: ТП-3908 | C412: Сахарная, 1 (ор.) | D412: 6/0,4кВ | E412: =[1]Таблица!L412 -> 0.095 | F412: +
A413: 389 | B413: ТП-400 | C413: Ушакова, 12-е (9-эт общежитие) | D413: 6/0,4кВ | E413: =[1]Таблица!L413 -> 0.30825833 | F413: +
A414: 390 | B414: ТП-401 | C414: Кушнира, 1-б «Междуречье» (Универсам) | D414: 6/0,4кВ | E414: =[1]Таблица!L414 -> 0.5417342 | F414: +
A415: 391 | B415: ТП-402 | C415: Францев, 15-б «Междуречье» (почта), | D415: 6/0,4кВ | E415: =[1]Таблица!L415 -> 0.52196393 | F415: +
A416: 392 | B416: ТП-403 | C416: Кушнира, 23-а «Междуречье» (школа №32) | D416: 6/0,4кВ | E416: =[1]Таблица!L416 -> 0.39517 | F416: +
A417: 393 | B417: ТП-404 | C417: Францева, 37-а | D417: 6/0,4кВ | E417: =[1]Таблица!L417 -> 0.87612553 | F417: +
...
