Workbook

Sheet 1
E1: абз.17 п.11 "б" ПП РФ №24 от 21.01.2004
A3: Информация о наличии свободной для технологического присоединения потребителей трансформаторной мощности по подстанциям и распределительным пунктам напряжением ниже 35кВ с дифференциацией по всем уровням напряжения
C5: 2025г. 4 квартал | F5: на 20.01.2026
A6: № пп | B6: Наименование подстанции, распределительного пункта | C6: Место расположения | D6: Технические характеристики
D7: Класс напряжения | E7: Текущий резерв/ дефицит мощности для технологического присоединения3,МВт | F7: Наличие (+) или отсутствие (-) свободной мощности на ТП
A9: 1 | B9: ТП-1 | C9: Краснознамённая, 49-б (ЛВЗ «Бальзам») | D9: 6/0,4кВ | E9: =[1]Таблица!L9 -> 0.6151594 | F9: +
A10: 2 | B10: ТП-2 | C10: Тимирязева, 63-г (за "Экспресс") | D10: 6/0,4кВ | E10: =[1]Таблица!L10 -> 0.660659 | F10: +
A11: 3 | B11: ТП-3 | C11: Агеева, 45-в («СТО» Советская-Агеева) | D11: 6/0,4кВ | E11: =[1]Таблица!L11 -> 0.16954533 | F11: +
A12: 4 | B12: ТП-4 | C12: территория бывшего УВВАКУ | D12: 6/0,4кВ | E12: =[1]Таблица!L12 -> 0.56 | F12: +
A13: 5 | B13: ТП-5 | C13: Краснознамённая, 57-б (въезд на Стройдвор) | D13: 6/0,4кВ | E13: =[1]Таблица!L13 -> 0.33728447 | F13: +
A14: 6 | B14: ТП-6 | C14: Суханова, 80 (школа №25) | D14: 6/0,4кВ | E14: =[1]Таблица!L14 -> 0.36067373 | F14: +
A15: 7 | B15: ТП-7 | C15: Ленина, 56-г (Сбербанк) | D15: 6/0,4кВ | E15: =[1]Таблица!L15 -> 0.81998527 | F15: +
A16: 8 | B16: ТП-8 | C16: Советская, 135-а - Комарова (АЗС) | D16: 6/0,4кВ | E16: =[1]Таблица!L16 -> 0.22958947 | F16: +
A17: 9 | B17: ТП-9 | C17: Кузнечная, (центральный рынок) | D17: 6/0,4кВ | E17: =[1]Таблица!L17 -> 0.882 | F17: +
A18: 10 | B18: ТП-10 | C18: Тимирязева, 33-а - (пед. фак.) | D18: 6/0,4кВ | E18: =[1]Таблица!L18 -> 0.42126 | F18: +
A19: 11 | B19: ТП-11 | C19: Пушкина, 15-в (Дзержинского-Крестьянская) | D19: 6/0,4кВ | E19: =[1]Таблица!L19 -> 0.23264033 | F19: +
A20: 12 | B20: ТП-12 | C20: Лермонтова, 24-в | D20: 6/0,4кВ | E20: =[1]Таблица!L20 -> -0.018299333 | F20: -
... A207: 199 | B207: ТП-199 | C207: Михайловское шоссе, контора пчеловодов | D207: 6/0,4кВ | E207: =[1]Таблица!L207 -> 0.0796484 | F207: +
B208: ТП-1000 | C208: Дзержинского | D208: 6/0,4кВ | E208: =[1]Таблица!L208 -> 2.8 | F208: +
B210: ТП-1001 | C210: Щорса-Афанасьева, 12 (ор.) | D210: 6/0,4кВ | E210: =[1]Таблица!L210 -> 0.475 | F210: +
B211: ТП-1002 | C211: Некрасова, 272 (ор.) | D211: 6/0,4кВ | E211: =[1]Таблица!L211 -> 0.922 | F211: +
B212: ТП-1003 | C212: Ленинградская, 5 | D212: 6/0,4кВ | E212: =[1]Таблица!L212 -> 1.197 | F212: +
B213: ТП-1006 | C213: Пархоменко, 1 (ор.) | D213: 6/0,4кВ | E213: =[1]Таблица!L213 -> 1.75 | F213: +
A214: 200 | B214: ТП-1901 | C214: Некрасова, 228-б | D214: 6/0,4кВ | E214: =[1]Таблица!L214 -> 0.090617333 | F214: +
A215: 201 | B215: ТП-1902 | C215: База КПС | D215: 6/0,4кВ | E215: =[1]Таблица!L215 -> 0.22386427 | F215: +
A216: 202 | B216: ТП-1903 | C216: Ермакова, 28 (батутный центр) | D216: 6/0,4кВ | E216: =[1]Таблица!L216 -> 0.095 | F216: +
A217: 203 | B217: ТП-1904 | C217: Резервная, 4-а (ориентир) | D217: 6/0,4кВ | E217: =[1]Таблица!L217 -> 0.215 | F217: +
A218: 204 | B218: ТП-1905 | C218: Комсомольская, 111/1 (ор.) | D218: 6/0,4кВ | E218: =[1]Таблица!L218 -> 0.054466867 | F218: +
A219: 205 | B219: ТП-1906 | C219: Резервная, 6-б | D219: 6/0,4кВ | E219: =[1]Таблица!L219 -> 0.094123467 | F219: +
A220: 206 | B220: ТП-1907 | C220: Михайловское шоссе, 40 | D220: 6/0,4кВ | E220: =[1]Таблица!L220 -> 0.19971013 | F220: +
A221: 207 | B221: ТП-1908 | C221: Фадеева, ул. Беляева, 2 ор. | D221: 6/0,4кВ | E221: =[1]Таблица!L221 -> 0.0371112 | F221: +
A222: 208 | B222: ТП-1909 | C222: Дзержинского - Куйбышева, 11 ориентир | D222: 6/0,4кВ | E222: =[1]Таблица!L222 -> 0.11213813 | F222: +
A223: 209 | B223: ТП-1910 | C223: Лимичевская, 28 (ГСК "Тюльпан") | D223: 6/0,4кВ | E223: =[1]Таблица!L223 -> -0.29888227 | F223: -
A224: 210 | B224: ТП-1911 | C224: Резервная, 4-а | D224: 6/0,4кВ | E224: =[1]Таблица!L224 -> 0.13468847 | F224: +
B225: ТП-1912 | C225: Степана Разина, 17-а (ор.) | D225: 6/0,4кВ | E225: =[1]Таблица!L225 -> 0.2375 | F225: +
B226: ТП-1913 | C226: Степана Разина, 17-а (ор.) | D226: 6/0,4кВ | E226: =[1]Таблица!L226 -> 0.2375 | F226: +
B227: ТП-1914 | C227: Ермакова, 17 | D227: 6/0,4кВ | E227: =[1]Таблица!L227 -> 0.2375 | F227: +
B228: ТП-1915 | C228: Энгельса-Советская | D228: 6/0,4кВ | E228: =[1]Таблица!L228 -> 0.067624267 | F228: +
B229: ТП-1916 | C229: Комарова, 1-ж (ор.) | D229: 6/0,4кВ | E229: =[1]Таблица!L229 -> 0.2025 | F229: +
B230: ТП-1920 | C230: Лимичевская, 17 | D230: 6/0,4кВ | E230: =[1]Таблица!L230 -> 0.20463 | F230: +
...
